BEGIN:VCALENDAR
VERSION:2.0
PRODID:-//wp-events-plugin.com//7.2.3.1//EN
TZID:Europe/Madrid
X-WR-TIMEZONE:Europe/Madrid
BEGIN:VEVENT
UID:312@judosantacoloma.com
DTSTART;TZID=Europe/Madrid;VALUE=DATE:20251213
DTEND;TZID=Europe/Madrid;VALUE=DATE:20251214
DTSTAMP:20250713T173447Z
URL:https://www.judosantacoloma.com/events/copa-catalana-junior/
SUMMARY:Copa Catalana Junior
DESCRIPTION:Copa Catalana Junior
CATEGORIES:G3
LOCATION:Llars Mundet\, Carrer d'Olympe de Gouges\, s/n\, Barcelona\, Barce
 lona\, 08035\, España
X-APPLE-STRUCTURED-LOCATION;VALUE=URI;X-ADDRESS=Carrer d'Olympe de Gouges\,
  s/n\, Barcelona\, Barcelona\, 08035\, España;X-APPLE-RADIUS=100;X-TITLE=
 Llars Mundet:geo:0,0
END:VEVENT
BEGIN:VTIMEZONE
TZID:Europe/Madrid
X-LIC-LOCATION:Europe/Madrid
BEGIN:STANDARD
DTSTART:20251026T020000
TZOFFSETFROM:+0200
TZOFFSETTO:+0100
TZNAME:CET
END:STANDARD
END:VTIMEZONE
END:VCALENDAR