BEGIN:VCALENDAR
VERSION:2.0
PRODID:-//wp-events-plugin.com//7.2.3.1//EN
TZID:Europe/Madrid
X-WR-TIMEZONE:Europe/Madrid
BEGIN:VEVENT
UID:301@judosantacoloma.com
DTSTART;TZID=Europe/Madrid:20250927T090000
DTEND;TZID=Europe/Madrid:20260516T140000
DTSTAMP:20260227T120634Z
URL:https://www.judosantacoloma.com/events/entrenamiento-federativo/
SUMMARY:Entrenamiento Federativo
DESCRIPTION:\n\nEntrenamIentOs FederatiVOs\nSábado\, 7 de Marzo de 2026\n\
 n\n\n\n\n📍\nLUGAR DE LOS entrenamIentOs\n\nCOMPLEX ESPORTIU BADIA DEL V
 ALLES\nAV. Via de la plata s/n\, 08214\nBadia del Vallès (Barcelona)\n\n\
 n\n\n⏰ HorariOs Y CategorÍAs\n\n16:00h a 17:30h\nAlevín (2014) e Infan
 til (2012/13)\n\n\n17:30h a 19:00h\nCadet (2009/10/11)\, Júnior (2006/07/
 08)\, Absoluta y Veteranos\n\n\n⚠️ Fecha límite de inscripción: 5 de
  marzo\n\n
ATTACH;FMTTYPE=image/jpeg:https://www.judosantacoloma.com/wp-content/uploa
 ds/2025/07/ENTRENAMENT-FCJIDA-PUNTUABLE-7-marc-scaled.jpg
CATEGORIES:Entrenamientos
LOCATION:https://fedecatjudo.cat/2026/02/24/entrenament-federatiu-07-03-26/
END:VEVENT
BEGIN:VTIMEZONE
TZID:Europe/Madrid
X-LIC-LOCATION:Europe/Madrid
BEGIN:DAYLIGHT
DTSTART:20250330T030000
TZOFFSETFROM:+0100
TZOFFSETTO:+0200
TZNAME:CEST
END:DAYLIGHT
BEGIN:STANDARD
DTSTART:20251026T020000
TZOFFSETFROM:+0200
TZOFFSETTO:+0100
TZNAME:CET
END:STANDARD
BEGIN:DAYLIGHT
DTSTART:20260329T030000
TZOFFSETFROM:+0100
TZOFFSETTO:+0200
TZNAME:CEST
END:DAYLIGHT
END:VTIMEZONE
END:VCALENDAR