BEGIN:VCALENDAR
VERSION:2.0
PRODID:-//wp-events-plugin.com//7.2.3.1//EN
TZID:Europe/Madrid
X-WR-TIMEZONE:Europe/Madrid
BEGIN:VEVENT
UID:167@judosantacoloma.com
DTSTART;TZID=Europe/Madrid:20250908T200000
DTEND;TZID=Europe/Madrid:20260617T210000
DTSTAMP:20251231T145211Z
URL:https://www.judosantacoloma.com/events/grupo-g3/
SUMMARY:Grupo G3
DESCRIPTION:Clases de judo para el Grupo G3.\n\nAlumnos con edad a partir d
 e 14 años.
CATEGORIES:G3
LOCATION:IES Les Vinyes\, Avenida Puig Castellar 9\, Santa Coloma de Gramen
 et\, Barcelona\, 08924\, España
X-APPLE-STRUCTURED-LOCATION;VALUE=URI;X-ADDRESS=Avenida Puig Castellar 9\, 
 Santa Coloma de Gramenet\, Barcelona\, 08924\, España;X-APPLE-RADIUS=100;
 X-TITLE=IES Les Vinyes:geo:0,0
END:VEVENT
BEGIN:VTIMEZONE
TZID:Europe/Madrid
X-LIC-LOCATION:Europe/Madrid
BEGIN:DAYLIGHT
DTSTART:20250330T030000
TZOFFSETFROM:+0100
TZOFFSETTO:+0200
TZNAME:CEST
END:DAYLIGHT
BEGIN:STANDARD
DTSTART:20251026T020000
TZOFFSETFROM:+0200
TZOFFSETTO:+0100
TZNAME:CET
END:STANDARD
BEGIN:DAYLIGHT
DTSTART:20260329T030000
TZOFFSETFROM:+0100
TZOFFSETTO:+0200
TZNAME:CEST
END:DAYLIGHT
END:VTIMEZONE
END:VCALENDAR