BEGIN:VCALENDAR
VERSION:2.0
PRODID:-//wp-events-plugin.com//7.2.3.1//EN
TZID:Europe/Madrid
X-WR-TIMEZONE:Europe/Madrid
BEGIN:VEVENT
UID:322@judosantacoloma.com
DTSTART;TZID=Europe/Madrid:20260207T000000
DTEND;TZID=Europe/Madrid:20260207T000000
DTSTAMP:20251231T151013Z
URL:https://www.judosantacoloma.com/events/super-copa-despanya-infantil-de
 xtremadura/
SUMMARY:Supercopa de España Infantil Villa de Montijo 2026
DESCRIPTION:\n\nX Supercopa de España Infantil "Villa de Montijo"\nTrofeo 
 Javier de la Marta 2026\n\n\n\n\n📅 Fecha\nSábado\, 7 de febrero de 202
 6\n📍 Lugar\nPolideportivo Ángel Rodríguez "El Chanvi"\nMontijo\, Bada
 joz\n\n🥋 Detalles de Categoría\n\n 	Edad: Nacidos en 2012-2013\n 	Grad
 o Mínimo: Cinturón Verde (3º Kyu)\n 	Equipación: Judogi blanco y azul 
 reglamentarios\n\n\n💰 Cuotas de Inscripción\n\n\n\nHasta el 23 de ener
 o (23:59h)\n30 €\n\n\nHasta el 30 de enero (23:59h)\n35 €\n\n\nHasta e
 l 2 de febrero (15:00h)\n65 €\n\n\n\nREALIZAR INSCRIPCIÓN\n\n⏰ Horari
 os Principales\n\nViernes\, 6 de febrero:\n\n\n 	Acreditaciones y Pesaje: 
 17:00 a 19:00 h\n\nSábado\, 7 de febrero:\n\n\n 	Inicio Competición: 09:
 00 h\n\n\n\nℹ️ Información Adicional:\n• Email: extremaduracopas@gm
 ail.com\n• Alojamiento recomendado: Hotel Gran Sol de Extremadura (924 4
 5 65 32)\nOrganiza: Federación Extremeña de Judo y DD.AA.\n\n
ATTACH;FMTTYPE=image/jpeg:https://www.judosantacoloma.com/wp-content/uploa
 ds/2025/12/supercopa_montijo_2026.jpg
CATEGORIES:España
LOCATION:https://fedexjudo.com/?p=5984
END:VEVENT
BEGIN:VTIMEZONE
TZID:Europe/Madrid
X-LIC-LOCATION:Europe/Madrid
BEGIN:STANDARD
DTSTART:20251026T020000
TZOFFSETFROM:+0200
TZOFFSETTO:+0100
TZNAME:CET
END:STANDARD
END:VTIMEZONE
END:VCALENDAR